BEGIN:VCALENDAR
VERSION:2.0
PRODID:-//ChamberMaster//Event Calendar 2.0//EN
METHOD:PUBLISH
X-PUBLISHED-TTL:P1H
REFRESH-INTERVAL:P1H
CALSCALE:GREGORIAN
BEGIN:VTIMEZONE
TZID:America/Los_Angeles
BEGIN:DAYLIGHT
RRULE:FREQ=YEARLY;BYMONTH=3;BYDAY=2SU
DTSTART:20070101T000000
TZOFFSETFROM:-0800
TZOFFSETTO:-0700
TZNAME:Pacific Daylight Time
END:DAYLIGHT
BEGIN:STANDARD
RRULE:FREQ=YEARLY;BYMONTH=11;BYDAY=1SU
DTSTART:20070101T000000
TZOFFSETFROM:-0700
TZOFFSETTO:-0800
TZNAME:Pacific Standard Time
END:STANDARD
END:VTIMEZONE
BEGIN:VEVENT
DTSTART;TZID=America/Los_Angeles:20220701T120000
DTEND;TZID=America/Los_Angeles:20220704T230000
X-MICROSOFT-CDO-ALLDAYEVENT:FALSE
SUMMARY:Central Washington State Fair Park
DESCRIPTION:Come down to the Central Washington State Fair Park for the 4th of July Celebration. July 1st thru July 4th. For more information go to: www.statefairpark.org/events
X-ALT-DESC;FMTTYPE=text/html:<!DOCTYPE html><html><head><title></title></head><body aria-disabled="false"><p>Come down to the Central Washington State Fair Park for the 4th of July Celebration. July 1st thru July 4th. For more information go to: <a fr-original-style="" href="http://www.statefairpark.org/events" style="user-select: auto\;">www.statefairpark.org/events</a></p></body></html>
LOCATION:1301 South Fair Ave Yakima WA 98902
UID:e.1448.667291
SEQUENCE:3
DTSTAMP:20260424T162523Z
URL:https://chamber.yakima.org/events/Details/central-washington-state-fair-park-700582?sourceTypeId=Hub
END:VEVENT
END:VCALENDAR
