BEGIN:VCALENDAR
VERSION:2.0
PRODID:-//ChamberMaster//Event Calendar 2.0//EN
METHOD:PUBLISH
X-PUBLISHED-TTL:P1H
REFRESH-INTERVAL:P1H
CALSCALE:GREGORIAN
BEGIN:VTIMEZONE
TZID:America/Los_Angeles
BEGIN:DAYLIGHT
RRULE:FREQ=YEARLY;BYMONTH=3;BYDAY=2SU
DTSTART:20070101T000000
TZOFFSETFROM:-0800
TZOFFSETTO:-0700
TZNAME:Pacific Daylight Time
END:DAYLIGHT
BEGIN:STANDARD
RRULE:FREQ=YEARLY;BYMONTH=11;BYDAY=1SU
DTSTART:20070101T000000
TZOFFSETFROM:-0700
TZOFFSETTO:-0800
TZNAME:Pacific Standard Time
END:STANDARD
END:VTIMEZONE
BEGIN:VEVENT
DTSTART;TZID=America/Los_Angeles:20180301T120000
DTEND;TZID=America/Los_Angeles:20180301T133000
X-MICROSOFT-CDO-ALLDAYEVENT:FALSE
SUMMARY:Chamber U Seminar - “Generations\; Approaches to Recruit and Retain Talent from Every Generation”
DESCRIPTION:With five generations in the workplace\, recruiting and retaining good employees can be tough! This seminar will give you insights in to the different generations\, why they think like they do\, what motivates them and how to spot potential generational conflicts. You'll laugh. You'll cry. You'll be glad you're not a Millennial!\n\nAfter 29 years with Employment Security\, Carol Cauthron hasn't seen or heard it all! She reads\, she listens and is a life-long learner continually fascinated by human behavior. Carol has a BA degree in Sociology from Washington State University along with a couple of minor certificates she's completely failed to use. Thanks\, Mom and Dad!\n\n\n\nPresenter\n\nCarol Cauthron\, Employment Connections Specialist\, WorkSource Yakima County
X-ALT-DESC;FMTTYPE=text/html:<strong><span style="font-family:calibri light\,sans-serif\;">With five generations in the workplace\, recruiting and retaining good employees can be tough! This seminar will give you insights in to the different generations\, why they think like they do\, what motivates them and how to spot potential generational conflicts. You&rsquo\;ll laugh. You&rsquo\;ll cry. You&rsquo\;ll be glad you&rsquo\;re not a Millennial!</span></strong><br />\n<strong><span style="font-family:calibri light\,sans-serif\;">After 29 years with Employment Security\, Carol Cauthron hasn&rsquo\;t seen or heard it all! She reads\, she listens and is a life-long learner continually fascinated by human behavior. Carol has a BA degree in Sociology from Washington State University along with a couple of minor certificates she&rsquo\;s completely failed to use. Thanks\, Mom and Dad!</span></strong><br />\n<br />\nPresenter<br />\n<strong><span style="font-family:calibri light\,sans-serif\;"><span style="font-size:11.0pt\;">Carol Cauthron\, Employment Connections Specialist\, WorkSource Yakima County</span></span></strong>
LOCATION:
UID:e.1448.130421
SEQUENCE:3
DTSTAMP:20260423T153158Z
URL:https://chamber.yakima.org/events/Details/chamber-u-seminar-generations-approaches-to-recruit-and-retain-talent-from-every-generation-146117?sourceTypeId=Hub
END:VEVENT
END:VCALENDAR
